BEGIN:VCALENDAR
VERSION:2.0
PRODID:-//Library Market//iCal Export//EN
BEGIN:VEVENT
SUMMARY:Art Camp Clean-Up
UID:29348
DTSTAMP:20260421T135700Z
DTSTART:20260421T153000Z
DTEND:20260421T163000Z
LOCATION:316 South Main Street, Janesville, WI 53545, United States
ROOM: Program Room
DESCRIPTION:
URL:https://www.hedbergpubliclibrary.org/event/art-camp-clean-29348
END:VEVENT
END:VCALENDAR
