BEGIN:VCALENDAR
VERSION:2.0
PRODID:-//Library Market//iCal Export//EN
BEGIN:VEVENT
SUMMARY:Creating a Stand Out First Chapter
UID:29322
DTSTAMP:20260422T071900Z
DTSTART:20260619T180000Z
DTEND:20260619T190000Z
LOCATION:316 South Main Street, Janesville, WI 53545, United States
ROOM: Program Room
DESCRIPTION:Presented by Sarah J. MendoncaWith so many new stories out eve
 ry year, it&#039;s important to hook readers from the very first sentence.
  Learn about ten universal hooks for compelling openings, using Action and
  Intrigue to draw people in, and common mistakes that stop readers from co
 ntinuing. 
URL:https://www.hedbergpubliclibrary.org/event/creating-stand-out-first-ch
 apter-29322
END:VEVENT
END:VCALENDAR
