BEGIN:VCALENDAR
VERSION:2.0
PRODID:-//Library Market//iCal Export//EN
BEGIN:VEVENT
SUMMARY:Last Day of Summer Lunch
UID:27988
DTSTAMP:20260422T232500Z
DTSTART:20260731T163000Z
DTEND:20260731T180000Z
LOCATION:316 South Main Street, Janesville, WI 53545, United States
ROOM: Lunch Site
DESCRIPTION:Come to library park to enjoy a free lunch provided by the Sch
 ool District of Janesville.  Anyone 18 or under is eligible to get a free
 , nutritious sack lunch.  Lunch must be eaten in library park and cannot 
 be taken to go. Sponsored by the U.S. Department of Agriculture and run by
  the School District of Janesville.  
URL:https://www.hedbergpubliclibrary.org/event/last-day-summer-lunch-27988
END:VEVENT
END:VCALENDAR
