BEGIN:VCALENDAR
VERSION:2.0
PRODID:-//Library Market//iCal Export//EN
BEGIN:VEVENT
SUMMARY:OFFICE HOURS: Community Action
UID:25624
DTSTAMP:20260422T044900Z
DTSTART:20260916T200000Z
DTEND:20260916T220000Z
LOCATION:316 South Main Street, Janesville, WI 53545, United States
ROOM: Study Room 4
DESCRIPTION:Talk to Community Action staff to learn about and/or enroll in
  Coordinated Entry and to receive referrals to services in the area.
URL:https://www.hedbergpubliclibrary.org/event/office-hours-community-acti
 on-25624
END:VEVENT
END:VCALENDAR
